BEGIN:VCALENDAR
VERSION:2.0
PRODID:-//Oncogeriatria Brasil - ECPv6.15.10//NONSGML v1.0//EN
CALSCALE:GREGORIAN
METHOD:PUBLISH
X-ORIGINAL-URL:https://oncogeriatriabrasil.com.br
X-WR-CALDESC:Eventos para Oncogeriatria Brasil
REFRESH-INTERVAL;VALUE=DURATION:PT1H
X-Robots-Tag:noindex
X-PUBLISHED-TTL:PT1H
BEGIN:VTIMEZONE
TZID:America/Sao_Paulo
BEGIN:STANDARD
TZOFFSETFROM:-0300
TZOFFSETTO:-0300
TZNAME:-03
DTSTART:20210101T000000
END:STANDARD
END:VTIMEZONE
BEGIN:VEVENT
DTSTART;TZID=America/Sao_Paulo:20220723T090000
DTEND;TZID=America/Sao_Paulo:20220723T123000
DTSTAMP:20260423T131148
CREATED:20220713T001335Z
LAST-MODIFIED:20220713T002527Z
UID:186-1658566800-1658579400@oncogeriatriabrasil.com.br
SUMMARY:Câncer de Pulmão na População Idosa
DESCRIPTION:Discussão baseada em casos clínicos  \n\n\n\n09:00 – 09:10\nAbertura e boas-vindas\nDra. Ludmila Koch  \n(Oncologista do HIAE\, Oncogeriatria Brasil\, Co-chair LACOG Oncogeriatria) \n\n\n09:10 – 09:20\nO envelhecimento populacional e a discussão do rastreamento de neoplasia de pulmão\nDra. Ludmila Koch  \n(Oncologista do HIAE\, Oncogeriatria Brasil\, Co-chair LACOG Oncogeriatria) \n\n\n09:20 – 09:40\nA avaliação geriátrica ampla e avaliação de expectativa de vida: incorporando o estadiamento do idoso desde o rastreamento\nDra. Juliana Berretta \n(Geriatra) \n\n\n09:40 – 10:00\nDevemos operar? Particularidades cirúrgicas no idoso\nDr. Benoit Bibas (Cirurgião torácico) \n\n\n10:00 – 10:20\nImunoterapia no idoso: o que é diferente?\nDr. Gustavo Schvarstman  \n(Oncologista)\n\n\n10:20 – 10:40\nTerapia alvo: evidências sobre a segurança e eficácia\nDr. Carlos Donnarumma \n(Oncologista)\n\n\n10:40 – 11:00\nRadioterapia – especificidades em idosos\nDra Ana Carolina Rezende  \n(Radio-oncologista HIAE) \n \n\n\n11:00 – 12:20\nManejo de dor no idoso: Quais as particularidades?\nDra. Raissa Melo \n(Oncologista Clínica especializada em Cuidados Paliativos)\n\n\n11:30 – 12:30\nAbraçando a complexidade: discussão de casos \n \nTodos os palestrantes
URL:https://oncogeriatriabrasil.com.br/curso/cancer-de-pulmao-na-populacao-idosa/
LOCATION:Presencial
CATEGORIES:Presencial
ATTACH;FMTTYPE=image/jpeg:https://oncogeriatriabrasil.com.br/wp-content/uploads/cancer-de-pulmao-em-idosos.jpg
END:VEVENT
BEGIN:VEVENT
DTSTART;TZID=America/Sao_Paulo:20220611T090000
DTEND;TZID=America/Sao_Paulo:20220611T123000
DTSTAMP:20260423T131148
CREATED:20220713T032609Z
LAST-MODIFIED:20220713T032659Z
UID:214-1654938000-1654950600@oncogeriatriabrasil.com.br
SUMMARY:Câncer de Ovário na Mulher Idosa
DESCRIPTION:Discussão baseada em casos clínicos  \n\n\n\n09:00 – 09:10\nAbertura e boas-vindas\nDra. Janine Capobiango  \n(oncologista da Prevent Senior\, Oncogeriatria Brasil\, LACOG Oncogeriatria) \n\n\n09:10 – 09:20\nO envelhecimento populacional e a necessidade da oncologia maturi\nDra. Luciola Pontes  \n(oncologista do Hcor\, Oncogeriatria Brasil\, Presidente LACOG Oncogeriatria) \n\n\n09:20 – 09:40\nA avaliação geriátrica ampla e ferramentas de triagem: incorporando o estadiamento do idoso à jornada oncológica\nDra. Polianna Souza (Geriatra HIAE\, Oncogeriatria Brasil\, LACOG Oncogeriatria) \n\n\n09:40 – 10:00\nRastreamento Choosing wisely: a expectativa de vida como norteador da decisão\nDra. Lessandra Chinaglia  \n(Geriatra Prevent Senior) \n\n\n10:00 – 10:20\nOs inibidores de ciclina na doença RH+ Her2 -: evidências sobre a segurança e eficácia\nDr. Noam Ponde  \n(Oncologista Clínico; Medical Director\, IQVIA Biotech) \n\n\n10:20 – 10:40\nQuimioterapia: planejando a jornada\nDra. Janine Capobiango  \n(oncologista da Prevent Senior\, Oncogeriatria Brasil\, LACOG Oncogeriatria) \n\n\n10:40 – 11:00\nInibidores da Parp: também para as idosas?\nDra. Andrea Moraes  \n(Oncologista clínica do Centro Paulista de Oncologia / Grupo Oncoclinicas; Mestranda na disciplina de mastologia EPM/UNIFESP; Co- fundadora do OncoResidentes) \n\n\n11:00 – 12:30\nAbraçando a complexidade:\nTodos os palestrantes  \n 
URL:https://oncogeriatriabrasil.com.br/curso/cancer-de-ovario-na-mulher-idosa/
LOCATION:Presencial
CATEGORIES:Presencial
END:VEVENT
END:VCALENDAR